BEGIN:VCALENDAR
VERSION:2.0
PRODID:-//Inland Valleys Association of Realtors - ECPv6.15.20//NONSGML v1.0//EN
CALSCALE:GREGORIAN
METHOD:PUBLISH
X-WR-CALNAME:Inland Valleys Association of Realtors
X-ORIGINAL-URL:https://www.ivaor.com
X-WR-CALDESC:Events for Inland Valleys Association of Realtors
REFRESH-INTERVAL;VALUE=DURATION:PT1H
X-Robots-Tag:noindex
X-PUBLISHED-TTL:PT1H
BEGIN:VTIMEZONE
TZID:UTC
BEGIN:STANDARD
TZOFFSETFROM:+0000
TZOFFSETTO:+0000
TZNAME:UTC
DTSTART:20250101T000000
END:STANDARD
END:VTIMEZONE
BEGIN:VEVENT
DTSTART;TZID=UTC:20260505T090000
DTEND;TZID=UTC:20260505T113000
DTSTAMP:20260422T080738
CREATED:20260410T194808Z
LAST-MODIFIED:20260410T194808Z
UID:16287-1777971600-1777980600@www.ivaor.com
SUMMARY:Riverside: 2026 Affiliate Expo
DESCRIPTION:ATTENDEES: CLICK HERE TO REGISTER \n  \nEXHIBITORS [AFFILIATES]: CONTACT RACHELLE AT 951-346-4516 FOR SPACE INFORMATION
URL:https://www.ivaor.com/event/riverside-2026-affiliate-expo/
LOCATION:IVAR Riverside\, 3690 Elizabeth Street\, Riverside\, CA\, 92506\, United States
CATEGORIES:Events,Other
ATTACH;FMTTYPE=image/png:https://www.ivaor.com/wp-content/uploads/2026/04/EXPO-Flyer.png
END:VEVENT
END:VCALENDAR