BEGIN:VCALENDAR
VERSION:2.0
PRODID:-//Inland Valleys Association of Realtors - ECPv6.15.20//NONSGML v1.0//EN
CALSCALE:GREGORIAN
METHOD:PUBLISH
X-WR-CALNAME:Inland Valleys Association of Realtors
X-ORIGINAL-URL:https://www.ivaor.com
X-WR-CALDESC:Events for Inland Valleys Association of Realtors
REFRESH-INTERVAL;VALUE=DURATION:PT1H
X-Robots-Tag:noindex
X-PUBLISHED-TTL:PT1H
BEGIN:VTIMEZONE
TZID:UTC
BEGIN:STANDARD
TZOFFSETFROM:+0000
TZOFFSETTO:+0000
TZNAME:UTC
DTSTART:20250101T000000
END:STANDARD
END:VTIMEZONE
BEGIN:VEVENT
DTSTART;TZID=UTC:20261125T090000
DTEND;TZID=UTC:20261125T110000
DTSTAMP:20260422T031843
CREATED:20251204T004520Z
LAST-MODIFIED:20251204T004520Z
UID:15740-1795597200-1795604400@www.ivaor.com
SUMMARY:Board of Directors Meeting
DESCRIPTION:
URL:https://www.ivaor.com/event/board-of-directors-meeting-22/
LOCATION:IVAR Board Room\, 3690 Elizabeth ST\, Riverside\, CA\, 92506\, United States
CATEGORIES:Committees
END:VEVENT
END:VCALENDAR