BEGIN:VCALENDAR
VERSION:2.0
PRODID:-//Inland Valleys Association of Realtors - ECPv6.15.20//NONSGML v1.0//EN
CALSCALE:GREGORIAN
METHOD:PUBLISH
X-WR-CALNAME:Inland Valleys Association of Realtors
X-ORIGINAL-URL:https://www.ivaor.com
X-WR-CALDESC:Events for Inland Valleys Association of Realtors
REFRESH-INTERVAL;VALUE=DURATION:PT1H
X-Robots-Tag:noindex
X-PUBLISHED-TTL:PT1H
BEGIN:VTIMEZONE
TZID:UTC
BEGIN:STANDARD
TZOFFSETFROM:+0000
TZOFFSETTO:+0000
TZNAME:UTC
DTSTART:20250101T000000
END:STANDARD
END:VTIMEZONE
BEGIN:VEVENT
DTSTART;TZID=UTC:20260422T090000
DTEND;TZID=UTC:20260422T110000
DTSTAMP:20260422T013326
CREATED:20251105T221247Z
LAST-MODIFIED:20251105T221247Z
UID:15576-1776848400-1776855600@www.ivaor.com
SUMMARY:Board of Directors Meeting
DESCRIPTION:
URL:https://www.ivaor.com/event/board-of-directors-meeting-4/
LOCATION:IVAR Board Room\, 3690 Elizabeth ST\, Riverside\, CA\, 92506\, United States
CATEGORIES:Committees
END:VEVENT
BEGIN:VEVENT
DTSTART;TZID=UTC:20260422T090000
DTEND;TZID=UTC:20260422T130000
DTSTAMP:20260422T013326
CREATED:20260325T131739Z
LAST-MODIFIED:20260327T210457Z
UID:16232-1776848400-1776862800@www.ivaor.com
SUMMARY:Riverside: CalHFA Training
DESCRIPTION:CLICK HERE TO REGISTER
URL:https://www.ivaor.com/event/riverside-calhfa-training/
LOCATION:IVAR Riverside\, 3690 Elizabeth Street\, Riverside\, CA\, 92506\, United States
ATTACH;FMTTYPE=image/jpeg:https://www.ivaor.com/wp-content/uploads/2026/03/04-22-CalHFA-Riv.jpg
END:VEVENT
END:VCALENDAR